BEGIN:VCALENDAR
VERSION:2.0
PRODID:-//wp-events-plugin.com//7.2.3.1//EN
TZID:Europe/Berlin
X-WR-TIMEZONE:Europe/Berlin
BEGIN:VEVENT
UID:6@stolpersteine-falkensee.de
DTSTART;TZID=Europe/Berlin:20250310T123000
DTEND;TZID=Europe/Berlin:20250310T133000
DTSTAMP:20250220T170029Z
URL:https://www.stolpersteine-falkensee.de/veranstaltungen/stolpersteinver
 legung-in-ketzin/
SUMMARY:Stolpersteinverlegung in Ketzin
DESCRIPTION:Am 10. März 2025 werden zum ersten Mal in Ketzin/Havel drei S
 TOLPERSTEINE für von den Nationalsozialisten verfolgte Menschen verlegt.
 \n\nIn der Plantagenstraße 16 lebte von 1928 bis 1934 die dreiköpfige j
 üdische Familie Kestenbaum. Die Eltern betrieben hier ein Textilwarenges
 chäft. Aufgrund der 1933 einsetzenden Verfolgungsmaßnahmen der Nazis b
 ereiteten sie ihre Flucht vor und wanderten nach Brasilien aus. STOLPERSTE
 INE befinden sich jeweils an dem letzten frei gewählten Wohnort der Mens
 chen\, die einstmals in unserer Nachbarschaft wohnten. Im Havelland sind
  inzwischen 52 STOLPERSTEINE verlegt worden. Der Künstler Gunter Demnig
 \, der die STOLPERSTEINE erfunden hat und bereits mehr als 100.000 Steine
  verlegt hat\, kommt persönlich nach Ketzin/Havel. Ab 12.30 Uhr wird er
  die drei STOLPERSTEINE für die Familie Kestenbaum in den Bürgersteig e
 inlassen. Bitte wohnen auch Sie dieser besonderen Zeremonie bei und gebe
 n den früheren Nachbarn ein ehrendes Gedenken.\n\nHier finden Sie den Fly
 er zur Verlegung. 
CATEGORIES:Stolpersteinverlegungen
LOCATION:Ketzin\,  \, Ketzin\, 14669\, Deutschland
X-APPLE-STRUCTURED-LOCATION;VALUE=URI;X-ADDRESS= \, Ketzin\, 14669\, Deutsc
 hland;X-APPLE-RADIUS=100;X-TITLE=Ketzin:geo:0,0
END:VEVENT
BEGIN:VTIMEZONE
TZID:Europe/Berlin
X-LIC-LOCATION:Europe/Berlin
BEGIN:STANDARD
DTSTART:20241027T020000
TZOFFSETFROM:+0200
TZOFFSETTO:+0100
TZNAME:CET
END:STANDARD
END:VTIMEZONE
END:VCALENDAR