BEGIN:VCALENDAR
VERSION:2.0
PRODID:-//wp-events-plugin.com//7.2.3.1//EN
TZID:Europe/Berlin
X-WR-TIMEZONE:Europe/Berlin
BEGIN:VEVENT
UID:25@stolpersteine-falkensee.de
DTSTART;TZID=Europe/Berlin:20260124T110000
DTEND;TZID=Europe/Berlin:20260124T113000
DTSTAMP:20251215T104157Z
URL:https://www.stolpersteine-falkensee.de/veranstaltungen/stolpersteine-p
 utzaktion-2/
SUMMARY:Stolpersteine Putzaktion
DESCRIPTION:Die Vorbereitungsgruppe Stolpersteine lädt Sie zur 4. Gemeinsa
 men Stolpersteine-Putzaktion in Falkensee ein! Am Sonnabend\, dem 24. Janu
 ar treffen sich Interessierte um 11 Uhr am WELTLADEN.
ATTACH;FMTTYPE=image/jpeg:https://www.stolpersteine-falkensee.de/wp-conten
 t/uploads/2025/11/Putzaktion_2026-1.jpg
CATEGORIES:Stolpersteine Putzaktion
LOCATION:Weltladen Falkensee\, Bahnhofstraße 61\, Falkensee\, 14612\, Deut
 schland
X-APPLE-STRUCTURED-LOCATION;VALUE=URI;X-ADDRESS=Bahnhofstraße 61\, Falkens
 ee\, 14612\, Deutschland;X-APPLE-RADIUS=100;X-TITLE=Weltladen Falkensee:ge
 o:0,0
END:VEVENT
BEGIN:VTIMEZONE
TZID:Europe/Berlin
X-LIC-LOCATION:Europe/Berlin
BEGIN:STANDARD
DTSTART:20251026T020000
TZOFFSETFROM:+0200
TZOFFSETTO:+0100
TZNAME:CET
END:STANDARD
END:VTIMEZONE
END:VCALENDAR