BEGIN:VCALENDAR
VERSION:2.0
PRODID:-//wp-events-plugin.com//7.2.3.1//EN
TZID:Europe/Berlin
X-WR-TIMEZONE:Europe/Berlin
BEGIN:VEVENT
UID:22@stolpersteine-falkensee.de
DTSTART;TZID=Europe/Berlin:20250913T130000
DTEND;TZID=Europe/Berlin:20250913T180000
DTSTAMP:20250909T093108Z
URL:https://www.stolpersteine-falkensee.de/veranstaltungen/stand-beim-stad
 tfest-falkensee/
SUMMARY:Stand beim Stadtfest Falkensee
DESCRIPTION:Auch dieses Jahr sind wir mit einem Stand beim Stadtfest in Fal
 kensee vertreten! Kommen Sie mit uns ins Gespräch\, informieren sich übe
 r die verlegten Stolpersteine in Falkensee und Umgebung oder über unsere 
 kommenden Veranstaltungen!\nWir freuen uns über einen Besuch!
ATTACH;FMTTYPE=image/jpeg:https://www.stolpersteine-falkensee.de/wp-conten
 t/uploads/2025/09/Samstag.png
CATEGORIES:Infostand
LOCATION:Stadthalle Falkensee\, Scharenbergstr. 15\, Falkensee\, 14612\, De
 utschland
X-APPLE-STRUCTURED-LOCATION;VALUE=URI;X-ADDRESS=Scharenbergstr. 15\, Falken
 see\, 14612\, Deutschland;X-APPLE-RADIUS=100;X-TITLE=Stadthalle Falkensee:
 geo:0,0
END:VEVENT
BEGIN:VTIMEZONE
TZID:Europe/Berlin
X-LIC-LOCATION:Europe/Berlin
BEGIN:DAYLIGHT
DTSTART:20250330T030000
TZOFFSETFROM:+0100
TZOFFSETTO:+0200
TZNAME:CEST
END:DAYLIGHT
END:VTIMEZONE
END:VCALENDAR