BEGIN:VCALENDAR
VERSION:2.0
PRODID:-//wp-events-plugin.com//7.2.3.1//EN
TZID:Europe/Berlin
X-WR-TIMEZONE:Europe/Berlin
BEGIN:VEVENT
UID:26@stolpersteine-falkensee.de
DTSTART;TZID=Europe/Berlin:20260127T190000
DTEND;TZID=Europe/Berlin:20260127T210000
DTSTAMP:20260112T192830Z
URL:https://www.stolpersteine-falkensee.de/veranstaltungen/konzert-des-jar
 ock-ensemble/
SUMMARY:Konzert des Jarock-Ensemble
DESCRIPTION:Konzert des Jarock-Ensemble in Erinnerung an die Komponisten Pa
 vel Haas\, Gideon Klein\, Hans Krása\, Siegfried Translateur und die Dich
 terin Ilse Weber.\n\nEintritt frei\, um eine Spende wird gebeten.\n\nWir f
 reuen uns auf Ihren Besuch!
ATTACH;FMTTYPE=image/jpeg:https://www.stolpersteine-falkensee.de/wp-conten
 t/uploads/2025/12/20260127_Konzert.jpg
CATEGORIES:Konzert
LOCATION:Falkenhagener Kirche\, Kirchstraße\, Falkensee\, 14612\, Deutschl
 and
X-APPLE-STRUCTURED-LOCATION;VALUE=URI;X-ADDRESS=Kirchstraße\, Falkensee\, 
 14612\, Deutschland;X-APPLE-RADIUS=100;X-TITLE=Falkenhagener Kirche:geo:0,
 0
END:VEVENT
BEGIN:VTIMEZONE
TZID:Europe/Berlin
X-LIC-LOCATION:Europe/Berlin
BEGIN:STANDARD
DTSTART:20251026T020000
TZOFFSETFROM:+0200
TZOFFSETTO:+0100
TZNAME:CET
END:STANDARD
END:VTIMEZONE
END:VCALENDAR