BEGIN:VCALENDAR
VERSION:2.0
PRODID:-//wp-events-plugin.com//7.2.3.1//EN
TZID:Europe/Berlin
X-WR-TIMEZONE:Europe/Berlin
BEGIN:VEVENT
UID:21@stolpersteine-falkensee.de
DTSTART;TZID=Europe/Berlin:20251108T180000
DTEND;TZID=Europe/Berlin:20251108T200000
DTSTAMP:20250928T054436Z
URL:https://www.stolpersteine-falkensee.de/veranstaltungen/hommage-an-masc
 ha-kaleko/
SUMMARY:Hommage an Mascha Kaléko
DESCRIPTION:„Man braucht nur eine Insel\nAllein im weiten Meer.\nMan brau
 cht nur einen Menschen\,\nden aber braucht man sehr.“\nIn diesem Fall br
 aucht es die Schauspielerin Judith Jakob\, die die Erinnerung an Mascha K
 aléko aufrechterhält und ihr Leben anhand ihrer Gedichte\, Tagebuchauf
 zeichnungen und eigenen Vertonungen nachzeichnet. Begleitet wird sie auf 
 dieser lyrisch-musikalischen Reise vom Pianisten Joachim Jezewski. Eine H
 uldigung an eine bemerkenswerte Frau.\nUnsere Veranstaltung findet am 8. N
 ovember um 18 Uhr im Bürgerhaus Finkenkrug statt. Der Eintritt ist frei u
 nd aktuell sind bereits alle Plätze belegt. Mit einer Anmeldung per E-Mai
 l an anmeldung@stolpersteine-falkensee.de nehmen wir Sie gern in die Warte
 liste auf und informieren\, wenn Plätze wieder frei werden sollten.\nPost
 karte zum Download
ATTACH;FMTTYPE=image/jpeg:https://www.stolpersteine-falkensee.de/wp-conten
 t/uploads/2025/09/Postkarte_Vorderseite_final.jpg
CATEGORIES:Lesung
LOCATION:Bürgerhaus Finkenkrug\, Feuerbachstr. 23\, Falkensee Finkenkrug\,
  14612\, Deutschland
X-APPLE-STRUCTURED-LOCATION;VALUE=URI;X-ADDRESS=Feuerbachstr. 23\, Falkense
 e Finkenkrug\, 14612\, Deutschland;X-APPLE-RADIUS=100;X-TITLE=Bürgerhaus 
 Finkenkrug:geo:0,0
END:VEVENT
BEGIN:VTIMEZONE
TZID:Europe/Berlin
X-LIC-LOCATION:Europe/Berlin
BEGIN:STANDARD
DTSTART:20251026T020000
TZOFFSETFROM:+0200
TZOFFSETTO:+0100
TZNAME:CET
END:STANDARD
END:VTIMEZONE
END:VCALENDAR