BEGIN:VCALENDAR
VERSION:2.0
PRODID:-//wp-events-plugin.com//7.2.3.1//EN
TZID:Europe/Berlin
X-WR-TIMEZONE:Europe/Berlin
BEGIN:VEVENT
UID:16@stolpersteine-falkensee.de
DTSTART;TZID=Europe/Berlin:20250628T110000
DTEND;TZID=Europe/Berlin:20250628T133000
DTSTAMP:20250529T175345Z
URL:https://www.stolpersteine-falkensee.de/veranstaltungen/historische-rad
 rundfahrt-auf-den-spuren-der-bildung-in-falkenhagen-und-seegefeld/
SUMMARY:Historische Radrundfahrt auf den Spuren der Bildung in Falkenhagen 
 und Seegefeld
DESCRIPTION:Die Vorbereitungsgruppe Stolpersteine für Falkensee und Umgebu
 ng möchten Sie einladen! Kommen Sie mit uns am Samstag\, dem 28. Juni 202
 5\, auf eine besondere Spurensuche zu den Stätten der Bildung in Falkenha
 gen und Seegefeld!\n\nWir treffen uns um 11 Uhr am Haus am Anger. Auf unse
 rer Tour erfahren Sie\, wo sich die historischen Schulstandorte befunden h
 aben. Wir besuchen auf unserem Weg zudem zwei Stolpersteine ehemaliger Ein
 wohnerinnen\, die durch die Nationalsozialisten ermordet wurden. Hören Si
 e unsere Geschichten und folgen damit der lokalen Geschichte! Die Radtour 
 endet gegen 13.30 Uhr.\n\nWir freuen uns auf Ihre Teilnahme!
ATTACH;FMTTYPE=image/jpeg:https://www.stolpersteine-falkensee.de/wp-conten
 t/uploads/2025/05/20250628_Radrundfahrt.png
LOCATION:Treffpunkt: Haus am Anger\, Falkenhagener Str. 16\, Falkensee\, 14
 612\, Deutschland
X-APPLE-STRUCTURED-LOCATION;VALUE=URI;X-ADDRESS=Falkenhagener Str. 16\, Fal
 kensee\, 14612\, Deutschland;X-APPLE-RADIUS=100;X-TITLE=Treffpunkt: Haus a
 m Anger:geo:0,0
END:VEVENT
BEGIN:VTIMEZONE
TZID:Europe/Berlin
X-LIC-LOCATION:Europe/Berlin
BEGIN:DAYLIGHT
DTSTART:20250330T030000
TZOFFSETFROM:+0100
TZOFFSETTO:+0200
TZNAME:CEST
END:DAYLIGHT
END:VTIMEZONE
END:VCALENDAR