BEGIN:VCALENDAR
VERSION:2.0
PRODID:-//wp-events-plugin.com//7.2.3.1//EN
TZID:Europe/Berlin
X-WR-TIMEZONE:Europe/Berlin
BEGIN:VEVENT
UID:36@stolpersteine-falkensee.de
DTSTART;TZID=Europe/Berlin;VALUE=DATE:20260510
DTEND;TZID=Europe/Berlin;VALUE=DATE:20261017
DTSTAMP:20260423T173206Z
URL:https://www.stolpersteine-falkensee.de/veranstaltungen/ausstellung-nau
 ener-stolpersteine/
SUMMARY:Ausstellung "Nauener Stolpersteine"
DESCRIPTION:Zur Erinnerung an die erste Verlegung am 11. Mai 2006 in Nauen 
 und dem 20-jährigen Bestehen der Vorbereitungsgruppe Stolpersteine Falken
 see und dem Osthavelland. \nDie Öffnungszeiten des Gebäudes sind zu bea
 chten.
ATTACH;FMTTYPE=image/jpeg:https://www.stolpersteine-falkensee.de/wp-conten
 t/uploads/2026/04/2026-04-Nauen-Hinweisplakat.jpg
LOCATION:Richart Hof Nauen\, Gartenstraße 27\, Nauen\, 14641\, Deutschland
X-APPLE-STRUCTURED-LOCATION;VALUE=URI;X-ADDRESS=Gartenstraße 27\, Nauen\, 
 14641\, Deutschland;X-APPLE-RADIUS=100;X-TITLE=Richart Hof Nauen:geo:0,0
END:VEVENT
BEGIN:VTIMEZONE
TZID:Europe/Berlin
X-LIC-LOCATION:Europe/Berlin
BEGIN:DAYLIGHT
DTSTART:20260329T030000
TZOFFSETFROM:+0100
TZOFFSETTO:+0200
TZNAME:CEST
END:DAYLIGHT
END:VTIMEZONE
END:VCALENDAR