BEGIN:VCALENDAR
VERSION:2.0
PRODID:-//wp-events-plugin.com//7.2.3.1//EN
TZID:Europe/Berlin
X-WR-TIMEZONE:Europe/Berlin
BEGIN:VEVENT
UID:7@stolpersteine-falkensee.de
DTSTART;TZID=Europe/Berlin:20250511T103000
DTEND;TZID=Europe/Berlin:20250511T113000
DTSTAMP:20250420T183330Z
URL:http://www.stolpersteine-falkensee.de/veranstaltungen/stolpersteinverl
 egung-falkensee/
SUMMARY:Stolpersteinverlegung für Ernst und Margarete Lipstein in Falkense
 e
DESCRIPTION:Am 11. Mai 2025 werden zwei STOLPERSTEINE für von den Nationa
 lsozialisten verfolgte Menschen verlegt. STOLPERSTEINE sind kleine in den
  Fußweg eingelassene Erinnerungsmale\, die mit dem Namen und den Lebensd
 aten sowie kurzen Angaben zum erlittenen Schicksal versehen sind. In Falk
 ensee und Umgebung wurden bisher 55 STOLPERSTEINE verlegt. Der Künstler
  Gunter Demnig\, der die Kunstaktion STOLPERSTEINE erfunden hat und insg
 esamt bereits mehr als 100.000 Steine verlegt hat\, kommt persönlich um 
 zu Ehren des Ehepaars Lipstein die beiden STOLPERSTEINE in den Fußweg ei
 nzulassen.\n\n10:30 Uhr Verlegung der STOLPERSTEINE für Ernst und Margar
 ete Lipstein\nin Falkensee Finkenkrug\, Böcklinstraße 51\n\nWeitere Info
 s zu Ernst und Margarete Lipstein finden Sie hier und auch im Flyer zur Ve
 rlegung\, den Sie hier finden.
ATTACH;FMTTYPE=image/jpeg:http://www.stolpersteine-falkensee.de/wp-content
 /uploads/2025/04/Ankuendigung_Verlegung_Falkensee.jpg
CATEGORIES:Stolpersteinverlegungen
LOCATION:Falkensee\,  \, Falkensee\, 14612\, Deutschland
X-APPLE-STRUCTURED-LOCATION;VALUE=URI;X-ADDRESS= \, Falkensee\, 14612\, Deu
 tschland;X-APPLE-RADIUS=100;X-TITLE=Falkensee:geo:0,0
END:VEVENT
BEGIN:VTIMEZONE
TZID:Europe/Berlin
X-LIC-LOCATION:Europe/Berlin
BEGIN:DAYLIGHT
DTSTART:20250330T030000
TZOFFSETFROM:+0100
TZOFFSETTO:+0200
TZNAME:CEST
END:DAYLIGHT
END:VTIMEZONE
END:VCALENDAR