BEGIN:VCALENDAR
VERSION:2.0
PRODID:-//wp-events-plugin.com//7.2.3.1//EN
TZID:Europe/Berlin
X-WR-TIMEZONE:Europe/Berlin
BEGIN:VEVENT
UID:20@stolpersteine-falkensee.de
DTSTART;TZID=Europe/Berlin:20250927T120000
DTEND;TZID=Europe/Berlin:20250927T150000
DTSTAMP:20250823T103016Z
URL:http://www.stolpersteine-falkensee.de/veranstaltungen/historische-radr
 undfahrt-auf-den-spuren-des-jugendforums-falkensee/
SUMMARY:Historische Radrundfahrt auf den Spuren des Jugendforums Falkensee
DESCRIPTION:Kommen Sie mit uns am Samstag\, dem 27. September 2025\, auf e
 ine besondere Spurensuche in Falkensee! Wir treﬀen uns um 12 Uhr am ASB
  Gelände (Ruppiner Str. 15\, 14612 Falkensee). Auf unserer Tour mit 9 in
 teressanten Zwischenstopps erfahren Sie\, wie das Jugendforum verschiede
 ne Orte in Falkensee geprägt hat und welche Geschichte diese erzählen. 
 Die Strecke führt uns u.a. vorbei am Kinderstadtwald und dem Campusplatz
  hin zum Haus am Anger\, wo wir die Tour gegen 15 Uhr gemeinsam ausklinge
 n lassen können.\nWir freuen uns auf Ihre Teilnahme!
ATTACH;FMTTYPE=image/jpeg:http://www.stolpersteine-falkensee.de/wp-content
 /uploads/2025/08/20250814_Postkarte_Radtour_V3_Vorderseite.jpg
CATEGORIES:Radrundfahrt
LOCATION:Treffpunkt: ASB Gelände\, Ruppiner Str. 15\, Falkensee\, 14612\, 
 Deutschland
X-APPLE-STRUCTURED-LOCATION;VALUE=URI;X-ADDRESS=Ruppiner Str. 15\, Falkense
 e\, 14612\, Deutschland;X-APPLE-RADIUS=100;X-TITLE=Treffpunkt: ASB Geländ
 e:geo:0,0
END:VEVENT
BEGIN:VTIMEZONE
TZID:Europe/Berlin
X-LIC-LOCATION:Europe/Berlin
BEGIN:DAYLIGHT
DTSTART:20250330T030000
TZOFFSETFROM:+0100
TZOFFSETTO:+0200
TZNAME:CEST
END:DAYLIGHT
END:VTIMEZONE
END:VCALENDAR